BEGIN:VCALENDAR
VERSION:2.0
CALSCALE:GREGORIAN
METHOD:PUBLISH
BEGIN:VEVENT
DTSTART;TZID=America/New_York:20160513T090000
DTEND;TZID=America/New_York:20160513T173000
SUMMARY:2016 RRISIQ  Annual Scientific Day
DESCRIPTION:&quot;Patient Engagement in Research&quot;.All our members (regular researchers\, associate members\, students\, clinicians\,decision makers and members of the Board\,etc.) are invited to join us. REGISTER NOW!   (Deadline is May 1st 2016).You will ...
LOCATION:McGill New Residence Hall 3625 Avenue du Parc\, Montréal\, Québec H2X 3P8
URL:https://rrisiq.com/en/event/2016-rrisiq-annual-scientific-day
UID:quid-rrisiq-47
END:VEVENT
END:VCALENDAR