BEGIN:VCALENDAR
VERSION:2.0
CALSCALE:GREGORIAN
METHOD:PUBLISH
BEGIN:VEVENT
DTSTART;TZID=America/New_York:20240321T120000
DTEND;TZID=America/New_York:20240321T130000
SUMMARY:2023-2024 Annual General Meeting
DESCRIPTION:The Quebec Network on Nursing Intervention Research (RRISIQ) invites you to its 2023-2024 Annual General Meeting (AGM).This meeting will be held entirely via Zoom on the upcoming 21st of March\, from 12:00 PM to 1:00 PM. Regular members\, partners\...
LOCATION:
URL:https://rrisiq.com/en/event/2023-2024-annual-general-meeting
UID:quid-rrisiq-114
END:VEVENT
END:VCALENDAR