BEGIN:VCALENDAR
VERSION:2.0
CALSCALE:GREGORIAN
METHOD:PUBLISH
BEGIN:VEVENT
DTSTART;TZID=America/New_York:20141019T100000
DTEND;TZID=America/New_York:20141023T180000
SUMMARY:20th annual Qualitative Health Research Conference (QHR)
DESCRIPTION:The 20th annual Qualitative Health Research Conference (QHR) will be held at the Delta Victoria Ocean Pointe Resort &amp;amp; Spa in Victoria\, British Columbia\, Canada.Abstract Submission now open\, please visit QHR website for more information...
LOCATION:45 Songhee Drive\, Victoria\, British Columbia\, Canada
URL:https://rrisiq.com/en/event/20th-annual-qualitative-health-research-conference-qhr
UID:quid-rrisiq-18
END:VEVENT
END:VCALENDAR