BEGIN:VCALENDAR
VERSION:2.0
CALSCALE:GREGORIAN
METHOD:PUBLISH
BEGIN:VEVENT
DTSTART;TZID=America/New_York:20141126T083000
DTEND;TZID=America/New_York:20141126T170000
SUMMARY:2nd Nursing science Research Day
DESCRIPTION:The School of Nursing at the University of Sherbrooke is pleased to invite you to its 2nd Research Day under the theme The fight against cancer: rely on nurses to be held in the AGORA of the Longueuil Campus on November 26th\, 2014. Join speakers f...
LOCATION:150 Place Charles LeMoyneLongueuil (QC) J4K 0A8
URL:https://rrisiq.com/en/event/2nd-nursing-science-research-day
UID:quid-rrisiq-23
END:VEVENT
END:VCALENDAR