BEGIN:VCALENDAR
VERSION:2.0
CALSCALE:GREGORIAN
METHOD:PUBLISH
BEGIN:VEVENT
DTSTART;TZID=America/New_York:20240319T120000
DTEND;TZID=America/New_York:20240319T130000
SUMMARY:Analyses longitudinales : un survol des approches et applications en sciences infirmières [in French]...
DESCRIPTION:This webinar will provide an overview of the different approaches to analyzing longitudinal data\, ranging from simpler methods to more complex modeling techniques. The webinar is offered free of charge and is open to everyone. However\, registration i...
LOCATION:
URL:https://rrisiq.com/en/event/analyses-longitudinales-un-survol-des-approches-et-applications-en-sciences-infirmieres-in-french
UID:quid-rrisiq-122
END:VEVENT
END:VCALENDAR