BEGIN:VCALENDAR
VERSION:2.0
CALSCALE:GREGORIAN
METHOD:PUBLISH
BEGIN:VEVENT
DTSTART;TZID=America/New_York:20190131T120000
DTEND;TZID=America/New_York:20190131T133000
SUMMARY:Development and Implementation of an Intervention to Identify and Respond to Intimate Partner Violence
DESCRIPTION:RRISIQ conference presented by Dr. Susan Jack "Embedding process evaluation in randomized controlled trials of complex interventions"
LOCATION:2375 Chemin de la Côte Sainte-Catherine\, Montréal...
URL:https://rrisiq.com/en/event/and-implementation-of-an-intervention-to-identify-and-respond-to-intimate-partner-violence
UID:quid-rrisiq-83
END:VEVENT
END:VCALENDAR