BEGIN:VCALENDAR
VERSION:2.0
CALSCALE:GREGORIAN
METHOD:PUBLISH
BEGIN:VEVENT
DTSTART;TZID=America/New_York:20240213T120000
DTEND;TZID=America/New_York:20240213T130000
SUMMARY:Introduction aux méta-analyses et aux analyses de modération : comprendre leur utilisation lors de la réalisation de synthèses des connaissances [in French]...
DESCRIPTION:This webinar will introduce participants to the main statistical methods for data synthesis used in systematic reviews of intervention effectiveness\, namely meta-analyses and moderation analyses. The webinar is offered free of charge and is open to is...
LOCATION:
URL:https://rrisiq.com/en/event/aux-de-comprendre-leur-utilisation-lors-de-la-realisation-de-syntheses-des-connaissances-in-french
UID:quid-rrisiq-118
END:VEVENT
END:VCALENDAR