BEGIN:VCALENDAR
VERSION:2.0
CALSCALE:GREGORIAN
METHOD:PUBLISH
BEGIN:VEVENT
DTSTART;TZID=America/New_York:20191203T120000
DTEND;TZID=America/New_York:20191203T133000
SUMMARY:A beginner’s Introduction to Optimization Trials for Behavioral Interventions
DESCRIPTION:Presented by: Andraea Van Hulst Assistant Professor McGill University Ingram School of Nursing and Christine Maheu Assistant Professor McGill University Ingram School of Nursing. Most behavioral interventions are complex and consider a combination of...
LOCATION:2375 Chemin de la Côte-Sainte-Catherine\, Montreal\, QC H3T 1A8
URL:https://rrisiq.com/en/event/beginner-introduction-to-optimization-trials-for-behavioral-interventions
UID:quid-rrisiq-88
END:VEVENT
END:VCALENDAR