BEGIN:VCALENDAR
VERSION:2.0
CALSCALE:GREGORIAN
METHOD:PUBLISH
BEGIN:VEVENT
DTSTART;TZID=America/New_York:20141208T093000
DTEND;TZID=America/New_York:20141208T113000
SUMMARY:Budget of a clinical study
DESCRIPTION:Presented by:Chantal Roy\, MSc MBA PMP CCRPAssistant to the Head of Applied Clinical Research Unit (URCA)&amp; Assistant to the Director\, Clinical Research SectorCHU Sainte-Justine Research CentreThe presentation is open to anyone interested in the...
LOCATION:2375\, chemin de la Côte Ste-CatherineMontréal\, QuébecH3T 1A8
URL:https://rrisiq.com/en/event/budget-of-clinical-study
UID:quid-rrisiq-25
END:VEVENT
END:VCALENDAR