BEGIN:VCALENDAR
VERSION:2.0
CALSCALE:GREGORIAN
METHOD:PUBLISH
BEGIN:VEVENT
DTSTART;TZID=America/New_York:20231129T120000
DTEND;TZID=America/New_York:20231129T130000
SUMMARY:Communication scientifique avec les milieux communautaires et politiques [in French]
DESCRIPTION:With this workshop\, the speakers aim to introduce the participants to innovative and critical perspectives on nursing scientific communication and to provide tools for understanding the scientific communication specific to nursing science. This webina...
LOCATION:
URL:https://rrisiq.com/en/event/communication-scientifique-avec-les-milieux-communautaires-et-politiques-in-french
UID:quid-rrisiq-111
END:VEVENT
END:VCALENDAR