BEGIN:VCALENDAR
VERSION:2.0
CALSCALE:GREGORIAN
METHOD:PUBLISH
BEGIN:VEVENT
DTSTART;TZID=America/New_York:20171116T120000
DTEND;TZID=America/New_York:20171116T133000
SUMMARY:Conference: "A Case Study Exploring Employment Factors Affecting General Practice Nurse Role Development"
DESCRIPTION:Conference presented by:Dr Sue Crossman\, PhDUnited-KingdomDr Sue Crossman has a nursing background and has held senior posts in health services management\, education and research. She has a particular interest in challenging processes within healt...
LOCATION:Pavillon Marguerite-d'Youville\, 2375 Ch de la Côte-Sainte-Catherine\, Montreal\, QC H3T 1A8
URL:https://rrisiq.com/en/event/conference-case-study-exploring-employment-factors-affecting-general-practice-nurse-role-development
UID:quid-rrisiq-68
END:VEVENT
END:VCALENDAR