BEGIN:VCALENDAR
VERSION:2.0
CALSCALE:GREGORIAN
METHOD:PUBLISH
BEGIN:VEVENT
DTSTART;TZID=America/New_York:20151119T120000
DTEND;TZID=America/New_York:20151119T133000
SUMMARY:Conference : "Évaluer les interventions complexes: tendances actuelles"
DESCRIPTION:PRESENTED BY:Astrid Brousselle\, PhDProfessorDepartment of community health sciencesCharles-LeMoyne Hospital research Center - Université de SherbrookeCanada Research Chair in Evaluation and Health Care System Improvement&quot;Intervention complexity...
LOCATION:2375\, chemin de la Côte Ste-Catherine\, Montreal
URL:https://rrisiq.com/en/event/conference-evaluer-les-interventions-complexes-tendances-actuelles
UID:quid-rrisiq-40
END:VEVENT
END:VCALENDAR