BEGIN:VCALENDAR
VERSION:2.0
CALSCALE:GREGORIAN
METHOD:PUBLISH
BEGIN:VEVENT
DTSTART;TZID=America/New_York:20161110T120000
DTEND;TZID=America/New_York:20161110T133000
SUMMARY:Conference: "Nursing Intervention Development Research: The Process in Four Different Contexts"
DESCRIPTION:PRESENTED BY:Nancy Feeley\, N\, PhDAssociate ProfessorIngram School of NursingMcGill UniversitySylvie Lambert\, N\, PhDAssistant ProfessorIngram School of NursingMcGill UniversityMelanie Berubé\, NPhD studentIngram School of NursingMcGill Genest\, N\...
LOCATION:2375\, chemin de la Côte Ste-Catherine\, Montreal
URL:https://rrisiq.com/en/event/conference-nursing-intervention-development-research-the-process-in-four-different-contexts
UID:quid-rrisiq-49
END:VEVENT
END:VCALENDAR