BEGIN:VCALENDAR
VERSION:2.0
CALSCALE:GREGORIAN
METHOD:PUBLISH
BEGIN:VEVENT
DTSTART;TZID=America/New_York:20150423T115900
DTEND;TZID=America/New_York:20150423T140000
SUMMARY:Conference: Nursing reflective practice in clinical settings
DESCRIPTION:Conference: Nursing reflective practice in clinical settingsConference organized by the Faculté des sciences infirmières de l&apos;Université de MontréalSpeaker : Véronique Dubé\, RN\, PhD
LOCATION:2375\, chemin de la Côte-Sainte-Catherine Montréal\, QC canada H3T 1A8...
URL:https://rrisiq.com/en/event/conference-nursing-reflective-practice-in-clinical-settings
UID:quid-rrisiq-36
END:VEVENT
END:VCALENDAR