BEGIN:VCALENDAR
VERSION:2.0
CALSCALE:GREGORIAN
METHOD:PUBLISH
BEGIN:VEVENT
DTSTART;TZID=America/New_York:20160114T113000
DTEND;TZID=America/New_York:20160114T130000
SUMMARY:Conference: "Pilot study: the good\, the bad and the ugly questions"
DESCRIPTION:PRESENTED BY:Sylvie Cossette\, PhFull professor\, Université de Montréal\, FSICodirector\, RRISIQSylvie Cossette\, RN\, PhD is Assistant Dean – Research and International Development –\, Full Professor at Faculté des sciences infirmières at de...
LOCATION:2375\, chemin de la Côte Ste-Catherine\, Montreal
URL:https://rrisiq.com/en/event/conference-pilot-study-the-good-the-bad-and-the-ugly-questions
UID:quid-rrisiq-41
END:VEVENT
END:VCALENDAR