BEGIN:VCALENDAR
VERSION:2.0
CALSCALE:GREGORIAN
METHOD:PUBLISH
BEGIN:VEVENT
DTSTART;TZID=America/New_York:20180406T083000
DTEND;TZID=America/New_York:20180406T123000
SUMMARY:CONNECTING MIND AND BODY: Psychosocial interventions in the context of treating physical diseases
DESCRIPTION:13th Annual JGH Department ofPsychiatry Research Day
LOCATION:4333\, Chemin de la Côte-Ste-Catherine\, Montréal
URL:https://rrisiq.com/en/event/connecting-mind-and-body-psychosocial-interventions-in-the-context-of-treating-physical-diseases
UID:quid-rrisiq-77
END:VEVENT
END:VCALENDAR