BEGIN:VCALENDAR
VERSION:2.0
CALSCALE:GREGORIAN
METHOD:PUBLISH
BEGIN:VEVENT
DTSTART;TZID=America/New_York:20201028T120000
DTEND;TZID=America/New_York:20201028T133000
SUMMARY:COVID Webinar: Research Strategies in a Pandemic Context #2
DESCRIPTION:Presentation of a project on the topic of COVID-19 and discussion on research strategies in a pandemic context
LOCATION:
URL:https://rrisiq.com/en/event/covid-webinar-research-strategies-in-pandemic-context-2
UID:quid-rrisiq-95
END:VEVENT
END:VCALENDAR