BEGIN:VCALENDAR
VERSION:2.0
CALSCALE:GREGORIAN
METHOD:PUBLISH
BEGIN:VEVENT
DTSTART;TZID=America/New_York:20240116T120000
DTEND;TZID=America/New_York:20240116T130000
SUMMARY:Comment mobiliser les citoyens et les citoyennes en période de pandémie : Exemple du projet DIGICIT sur les applications de notification de contact pendant la COVID-19 [in French]
DESCRIPTION:The proposed activity aims to report on the project\, including the methodology used\, and to discuss the lessons learned in developing this type of consultation\, even in emergency situations. The webinar is offered for free and is open to everyone. i...
LOCATION:
URL:https://rrisiq.com/en/event/de-du-projet-digicit-sur-les-applications-de-notification-de-contact-pendant-la-covid-19-in-french
UID:quid-rrisiq-115
END:VEVENT
END:VCALENDAR