BEGIN:VCALENDAR
VERSION:2.0
CALSCALE:GREGORIAN
METHOD:PUBLISH
BEGIN:VEVENT
DTSTART;TZID=America/New_York:20240402T120000
DTEND;TZID=America/New_York:20240402T130000
SUMMARY:Évaluation de l'engagement des patients et de leurs proches en contexte clinique et perceptions de leur(s) rôle(s) dans la sécurité des soins [in French]...
DESCRIPTION:This webinar will allow participants to discover the tools developed and validated for assessing patients' engagement and that of their relatives in their care\, as well as to explore the preferences of different stakeholders regarding the role of and ...
LOCATION:
URL:https://rrisiq.com/en/event/de-proches-en-contexte-clinique-et-perceptions-de-leur-role-dans-la-securite-des-soins-in-french
UID:quid-rrisiq-124
END:VEVENT
END:VCALENDAR