BEGIN:VCALENDAR
VERSION:2.0
CALSCALE:GREGORIAN
METHOD:PUBLISH
BEGIN:VEVENT
DTSTART;TZID=America/New_York:20161214T113000
DTEND;TZID=America/New_York:20161214T123000
SUMMARY:SIDIIEF conference: "Impact des infirmières et infirmiers à la qualité des soins et la sécurité des patients : des leçons du RN4CAST"
DESCRIPTION:« IMPACT DES INFIRMIÈRES ET INFIRMIERS À LA QUALITÉ DES SOINS ET LA SÉCURITÉ DES PATIENTS : DES LEÇONS DU RN4CAST »Quality of care and patient safetyWednesday\, December 14th 2016 / 11:00 am (ETM/ UTC -5 )SpeakerWalter SERMEUS\, nurse\, PhD o...
LOCATION:4200 Rue Molson\, Montréal\, QC H1Y 3L1
URL:https://rrisiq.com/en/event/des-infirmieres-et-infirmiers-la-qualite-des-soins-et-la-securite-des-patients-des-lecons-du-rn4cast
UID:quid-rrisiq-52
END:VEVENT
END:VCALENDAR