BEGIN:VCALENDAR
VERSION:2.0
CALSCALE:GREGORIAN
METHOD:PUBLISH
BEGIN:VEVENT
DTSTART;TZID=America/New_York:20200218T120000
DTEND;TZID=America/New_York:20200218T133000
SUMMARY:Economic Analysis in Nursing
DESCRIPTION:Speaker: Éric Tchouaket Associate Professor Département des sciences infirmières Université du Québec en Ouatouais. The economic analysis aims to demonstrate the efficiency of an intervention by comparing the costs associated with the...
LOCATION:2375\, ch. de la Côte Ste-Catherine\, Montréal
URL:https://rrisiq.com/en/event/economic-analysis-in-nursing
UID:quid-rrisiq-91
END:VEVENT
END:VCALENDAR