BEGIN:VCALENDAR
VERSION:2.0
CALSCALE:GREGORIAN
METHOD:PUBLISH
BEGIN:VEVENT
DTSTART;TZID=America/New_York:20190130T120000
DTEND;TZID=America/New_York:20190130T133000
SUMMARY:Embedding process evaluation in randomized controlled trials of complex interventions
DESCRIPTION:RRISIQ conference presented by Dr. Susan Jack "Embedding process evaluation in randomized controlled trials of complex interventions"
LOCATION:2375 Chemin de la Côte Sainte-Catherine\, Montréal...
URL:https://rrisiq.com/en/event/embedding-process-evaluation-in-randomized-controlled-trials-of-complex-interventions
UID:quid-rrisiq-82
END:VEVENT
END:VCALENDAR