BEGIN:VCALENDAR
VERSION:2.0
CALSCALE:GREGORIAN
METHOD:PUBLISH
BEGIN:VEVENT
DTSTART;TZID=America/New_York:20231219T120000
DTEND;TZID=America/New_York:20231219T130000
SUMMARY:Perspective critique en histoire : pour une analyse politique de la discipline et de la profession infirmière [in French]
DESCRIPTION:In the context of this presentation\, using critical approaches\, you are invited to revisit the history of nursing science. The concepts developed by postmodern authors allow exploring nursing phenomena from more philosophical\, critical\, or even The...
LOCATION:
URL:https://rrisiq.com/en/event/en-histoire-pour-une-analyse-politique-de-la-discipline-et-de-la-profession-infirmiere-in-french
UID:quid-rrisiq-113
END:VEVENT
END:VCALENDAR