BEGIN:VCALENDAR
VERSION:2.0
CALSCALE:GREGORIAN
METHOD:PUBLISH
BEGIN:VEVENT
DTSTART;TZID=America/New_York:20240522T120000
DTEND;TZID=America/New_York:20240522T130000
SUMMARY:La recherche en intervention auprès de patients en soins critiques : défis méthodologiques et éthiques [in French]
DESCRIPTION:This activity aims to familiarize participants with the ethical and methodological challenges of research in critical care and to share strategies for navigating these challenges. The webinar is offered free of charge and is open to everyone. However\,...
LOCATION:
URL:https://rrisiq.com/en/event/en-intervention-aupres-de-patients-en-soins-critiques-defis-methodologiques-et-ethiques-in-french
UID:quid-rrisiq-127
END:VEVENT
END:VCALENDAR