BEGIN:VCALENDAR
VERSION:2.0
CALSCALE:GREGORIAN
METHOD:PUBLISH
BEGIN:VEVENT
DTSTART;TZID=America/New_York:20250122T120000
DTEND;TZID=America/New_York:20250122T130000
SUMMARY:Développement et implantation d'un outil de mesure de la charge de travail des infirmières praticiennes: une étude de faisabilité
DESCRIPTION:This conference will present the results of a feasibility study into the development and implementation of an online workload measurement index for nurse practitioners\, the ICT-IP. Data collection took place from January to July 2024 in three regions ...
LOCATION:
URL:https://rrisiq.com/en/event/et-un-outil-de-mesure-de-la-charge-de-travail-des-infirmieres-praticiennes-une-etude-de-faisabilite
UID:quid-rrisiq-145
END:VEVENT
END:VCALENDAR