BEGIN:VCALENDAR
VERSION:2.0
CALSCALE:GREGORIAN
METHOD:PUBLISH
BEGIN:VEVENT
DTSTART;TZID=America/New_York:20180823T090000
DTEND;TZID=America/New_York:20180823T120000
SUMMARY:FRQS Research Scholar Application Workshop
DESCRIPTION:Given by :Nancy FeeleyRRISIQ Co-directorAssociate Professor\, Ingram School of Nursing\, McGill UniversitySylvie Le MayFull Professor \, Faculté des sciences infirmières -Université de Montréal Associate Director for Nursing Research Development -...
LOCATION:École des sciences infirmières Ingram -Université McGill 680 Sherbrooke Ouest\, Suite 1800\, salle 1822
URL:https://rrisiq.com/en/event/frqs-research-scholar-application-workshop
UID:quid-rrisiq-80
END:VEVENT
END:VCALENDAR