BEGIN:VCALENDAR
VERSION:2.0
CALSCALE:GREGORIAN
METHOD:PUBLISH
BEGIN:VEVENT
DTSTART;TZID=America/New_York:20151013T000000
DTEND;TZID=America/New_York:20151015T120000
SUMMARY:International Conference : Researching Complex Interventions in Health: The State of the Art
DESCRIPTION:Researching Complex Interventions in Health: The State of the ArtAn International Conference13 – 15 October 2015University of Exeter\, UK at The Rougemont Hotel\, ExeterThis conference will bring together leading international contributors like from...
LOCATION:Thistle Exeter City CentreQueen StreetExeter EX4 3SP
URL:https://rrisiq.com/en/event/international-conference-researching-complex-interventions-in-health-the-state-of-the-art
UID:quid-rrisiq-31
END:VEVENT
END:VCALENDAR