BEGIN:VCALENDAR
VERSION:2.0
CALSCALE:GREGORIAN
METHOD:PUBLISH
BEGIN:VEVENT
DTSTART;TZID=America/New_York:20190509T080000
DTEND;TZID=America/New_York:20190511T160000
SUMMARY:Introduction to Realist Methodology: Evaluation and Synthesis
DESCRIPTION:Introduction to Realist Methodology: Evaluation and Synthesis Thursday\, May 9th & Friday\, May 10th\, 2019. Realist Methodology Consultation Day Saturday\, May 11th\, 2019. This workshop will be delivered in English\, with informal discussion and...
LOCATION:2375 Chemin de la Côte-Sainte-Catherine\, Montreal\, QC H3T 1A8
URL:https://rrisiq.com/en/event/introduction-to-realist-methodology-evaluation-and-synthesis
UID:quid-rrisiq-84
END:VEVENT
END:VCALENDAR