BEGIN:VCALENDAR
VERSION:2.0
CALSCALE:GREGORIAN
METHOD:PUBLISH
BEGIN:VEVENT
DTSTART;TZID=America/New_York:20241114T120000
DTEND;TZID=America/New_York:20241114T130000
SUMMARY:L’analyse situationnelle : la mobilisation d’une approche théorie-méthode pour mieux comprendre les pratiques de soins en contexte de violence à caractère sexuel [in French]...
DESCRIPTION:This webinar will address the contribution of situational analysis in examining nursing practices in sexual health following the #MeToo movement\, while considering the complex dynamics related to sexual violence and the ongoing social movements. The i...
LOCATION:
URL:https://rrisiq.com/en/event/la-pour-mieux-comprendre-les-pratiques-de-soins-en-contexte-de-violence-caractere-sexuel-in-french
UID:quid-rrisiq-139
END:VEVENT
END:VCALENDAR