BEGIN:VCALENDAR
VERSION:2.0
CALSCALE:GREGORIAN
METHOD:PUBLISH
BEGIN:VEVENT
DTSTART;TZID=America/New_York:20231213T120000
DTEND;TZID=America/New_York:20231213T130000
SUMMARY:Lorsque le personnel infirmier doit naviguer entre l’application des lois et la reconnaissance des droits en santé mentale [in French]
DESCRIPTION:This scientific activity will explore the issues related to the use of involuntary admission and treatment measures by combining the perspectives of people living with mental health problems and health practitioners. The webinar is offered for free and...
LOCATION:
URL:https://rrisiq.com/en/event/le-naviguer-entre-application-des-lois-et-la-reconnaissance-des-droits-en-sante-mentale-in-french
UID:quid-rrisiq-112
END:VEVENT
END:VCALENDAR