BEGIN:VCALENDAR
VERSION:2.0
CALSCALE:GREGORIAN
METHOD:PUBLISH
BEGIN:VEVENT
DTSTART;TZID=America/New_York:20241203T090000
DTEND;TZID=America/New_York:20241203T100000
SUMMARY:Le transfert intégré des connaissances : le fondement d’une équipe de recherche [in French]...
DESCRIPTION:This activity aims to present the foundations of the integrated knowledge application approach\, which underpins Prof. Poitras' team’s vision for knowledge transfer. The webinar is offered free of charge and is open to everyone. However\, registratio...
LOCATION:
URL:https://rrisiq.com/en/event/le-transfert-integre-des-connaissances-le-fondement-une-equipe-de-recherche-in-french
UID:quid-rrisiq-143
END:VEVENT
END:VCALENDAR