BEGIN:VCALENDAR
VERSION:2.0
CALSCALE:GREGORIAN
METHOD:PUBLISH
BEGIN:VEVENT
DTSTART;TZID=America/New_York:20180130T120000
DTEND;TZID=America/New_York:20180130T133000
SUMMARY:Conference: "Discrimination envers les femmes scientifiques en santé: Des publications de qualité… moins citées et des salaires plus bas"
DESCRIPTION:RRISIQ conference presented by Catherine Beaudry: "Discrimination envers les femmes scientifiques en santé: Des publications de qualité… moins citées et des salaires plus bas"
LOCATION:2375\, ch. de la Côte Ste-Catherine\, Montréal
URL:https://rrisiq.com/en/event/les-femmes-scientifiques-en-sante-des-publications-de-qualite-moins-citees-et-des-salaires-plus-bas
UID:quid-rrisiq-73
END:VEVENT
END:VCALENDAR