BEGIN:VCALENDAR
VERSION:2.0
CALSCALE:GREGORIAN
METHOD:PUBLISH
BEGIN:VEVENT
DTSTART;TZID=America/New_York:20140410T090000
DTEND;TZID=America/New_York:20140410T130000
SUMMARY:Meta synthesis of qualitative studies
DESCRIPTION:** Please note that registration for this conference is now closed due to the large number of confirmed participants.**Speaker: Dr Sally ThorneAssociate Dean\, Faculty of Applied Science\, and Professor in the School of Nursing at the University of...
LOCATION:3506 University St\, Montreal\, QC H3A 2A9
URL:https://rrisiq.com/en/event/meta-synthesis-of-qualitative-studies
UID:quid-rrisiq-14
END:VEVENT
END:VCALENDAR