BEGIN:VCALENDAR
VERSION:2.0
CALSCALE:GREGORIAN
METHOD:PUBLISH
BEGIN:VEVENT
DTSTART;TZID=America/New_York:20170526T070000
DTEND;TZID=America/New_York:20170526T163000
SUMMARY:Mind the Nursing Gap: The Complexities of Nursing Staff Mix and Care Delivery
DESCRIPTION:Jewish General Hospital - 34th Department of Nursing Annual SymposiumNursing\, Health and HealthcareOrganizational health care restructuring\, budget cuts and shortage of health professionals have prompted changes in nursing staff mix.When mainly th...
LOCATION:5151 Chemin de la Côte-Sainte-Catherine\, Montréal (Québec) H3W 1M6
URL:https://rrisiq.com/en/event/mind-the-nursing-gap-the-complexities-of-nursing-staff-mix-and-care-delivery
UID:quid-rrisiq-61
END:VEVENT
END:VCALENDAR