BEGIN:VCALENDAR
VERSION:2.0
CALSCALE:GREGORIAN
METHOD:PUBLISH
BEGIN:VEVENT
DTSTART;TZID=America/New_York:20171130T080000
DTEND;TZID=America/New_York:20171130T160000
SUMMARY:Nurses and Research in Perspective: 36th annual conference
DESCRIPTION:MENTAL HEALTH MATTERS: EMPOWERING NURSES CARING FOR PATIENTS HAVING BOTH PHYSICAL AND MENTAL HEALTH ISSUESSee document below for details...
LOCATION:1001\, Boul. Décarie\, Montréal\, PQ. H4A 3J1
URL:https://rrisiq.com/en/event/nurses-and-research-in-perspective-36th-annual-conference
UID:quid-rrisiq-71
END:VEVENT
END:VCALENDAR