BEGIN:VCALENDAR
VERSION:2.0
CALSCALE:GREGORIAN
METHOD:PUBLISH
BEGIN:VEVENT
DTSTART;TZID=America/New_York:20150408T115900
DTEND;TZID=America/New_York:20150408T140000
SUMMARY:Conférence : La philosophie en sciences infirmières? Un paysage pluriel et engagé pour la discipline et la profession
DESCRIPTION:La philosophie en sciences infirmières? Un paysage pluriel et engagé pour la discipline et la professionDévelopper des savoirs en sciences infirmières... voilà un projet engageant pour communauté scientifique de la Faculté des sciences...
LOCATION:2405\, chemin de la Côte-Sainte-Catherine Montréal\, QC Canada H3T 1A8...
URL:https://rrisiq.com/en/event/philosophie-en-sciences-infirmieres-un-paysage-pluriel-et-engage-pour-la-discipline-et-la-profession
UID:quid-rrisiq-35
END:VEVENT
END:VCALENDAR