BEGIN:VCALENDAR
VERSION:2.0
CALSCALE:GREGORIAN
METHOD:PUBLISH
BEGIN:VEVENT
DTSTART;TZID=America/New_York:20200130T120000
DTEND;TZID=America/New_York:20200130T133000
SUMMARY:Practical tips and resources to guide a knowledge synthesis study
DESCRIPTION:Speaker: Dr. Argerie Tsimicalis Assistant Professor Ingram School of Nursing McGill University. In 2014 and 2015\, Dr Tsimicalis developed and taught an introductory\, graduate-level\, 3-credit research methods to teach students to systematically...
LOCATION:2375\, ch. de la Côte Ste-Catherine\, Montréal
URL:https://rrisiq.com/en/event/practical-tips-and-resources-to-guide-knowledge-synthesis-study-2020-01-30
UID:quid-rrisiq-89
END:VEVENT
END:VCALENDAR