BEGIN:VCALENDAR
VERSION:2.0
CALSCALE:GREGORIAN
METHOD:PUBLISH
BEGIN:VEVENT
DTSTART;TZID=America/New_York:20150531T083000
DTEND;TZID=America/New_York:20150531T163000
SUMMARY:Pré-Congrès mondial des infirmières et infirmiers francophones
DESCRIPTION:The Congrès mondial des infirmières et infirmiers francophones acquired during the last five editions\, a solid reputation in any enviable global nursing community. This event remains high caliber appointment by excellence and reference for all nur...
LOCATION:1001 Place Jean-Paul-Riopelle\, Montréal\, Québec H2Z 1H5
URL:https://rrisiq.com/en/event/pre-congres-mondial-des-infirmieres-et-infirmiers-francophones
UID:quid-rrisiq-30
END:VEVENT
END:VCALENDAR