BEGIN:VCALENDAR
VERSION:2.0
CALSCALE:GREGORIAN
METHOD:PUBLISH
BEGIN:VEVENT
DTSTART;TZID=America/New_York:20150527T170000
DTEND;TZID=America/New_York:20150527T190000
SUMMARY:Researcher-journalist interdependence: challenges and best practices
DESCRIPTION:There is a world-wide tendency to value – at least in rhetoric – decisions and policies that incorporate scientific evidence. At the same time\, funding agencies require that researchers be increasingly proactive in disseminating their results\...
LOCATION:475 Boul de Maisonneuve E Montréal\, QC H2L 5C4
URL:https://rrisiq.com/en/event/researcher-journalist-interdependence-challenges-and-best-practices
UID:quid-rrisiq-38
END:VEVENT
END:VCALENDAR