BEGIN:VCALENDAR
VERSION:2.0
CALSCALE:GREGORIAN
METHOD:PUBLISH
BEGIN:VEVENT
DTSTART;TZID=America/New_York:20160218T090000
DTEND;TZID=America/New_York:20160218T120000
SUMMARY:Revues systématiques et Méta-analyses
DESCRIPTION:ACTIVITY PRESENTED BY:Chantale RoyAssistant to the Head of UnitUnité de recherche clinique appliquéeCHU Ste-JustineConference9:00 am - 10:30 amThe conference will address:An introduction to the differences between systematic reviews and other type...
LOCATION:2375\, chemin de la Côte Ste-Catherine\, Montreal
URL:https://rrisiq.com/en/event/revues-systematiques-et-meta-analyses
UID:quid-rrisiq-44
END:VEVENT
END:VCALENDAR