BEGIN:VCALENDAR
VERSION:2.0
CALSCALE:GREGORIAN
METHOD:PUBLISH
BEGIN:VEVENT
DTSTART;TZID=America/New_York:20200709T120000
DTEND;TZID=America/New_York:20200709T133000
SUMMARY:RRISIQ Webinar: Research Strategies in a Pandemic Context
DESCRIPTION:Please join us for the presentation of a project on the topic of COVID-19 followed by a discussion and exchange on research strategies in a pandemic context.**Registration is required (See Zoom link below)** Hosted by: Marie-Pierre Gagnon...
LOCATION:
URL:https://rrisiq.com/en/event/rrisiq-webinar-research-strategies-in-pandemic-context
UID:quid-rrisiq-94
END:VEVENT
END:VCALENDAR