BEGIN:VCALENDAR
VERSION:2.0
CALSCALE:GREGORIAN
METHOD:PUBLISH
BEGIN:VEVENT
DTSTART;TZID=America/New_York:20240515T120000
DTEND;TZID=America/New_York:20240515T130000
SUMMARY:Repenser la supervision de stage en sciences infirmières : principes et opérationnalisation d'un devis de recherche-action participative dans le cadre d'une étude doctorale [in French]
DESCRIPTION:During this activity\, participants will discover how the principles of participatory action research were applied in the context of a doctoral study dedicated to exploring\, adapting\, and testing an innovative model of internship supervision in nursi...
LOCATION:
URL:https://rrisiq.com/en/event/sciences-et-un-devis-de-recherche-action-participative-dans-le-cadre-une-etude-doctorale-in-french
UID:quid-rrisiq-126
END:VEVENT
END:VCALENDAR