BEGIN:VCALENDAR
VERSION:2.0
CALSCALE:GREGORIAN
METHOD:PUBLISH
BEGIN:VEVENT
DTSTART;TZID=America/New_York:20170111T113000
DTEND;TZID=America/New_York:20170111T123000
SUMMARY:SIDIIEF Conference: "Pratique infirmière avancée : résultats de recherche"
DESCRIPTION:&quot;Pratique infirmière avancée : résultats de recherche&quot;Quality of care and patient safetyWednesday\, January 11th 2017 / 11:30 am (ETM/ UTC -5 )SpeakerSean CLARKE\, nurse\, PhDassociate dean for undergraduate programs and professor\, Willia...
LOCATION:4200 Rue Molson\, Montréal\, QC H1Y 3L1
URL:https://rrisiq.com/en/event/sidiief-conference-pratique-infirmiere-avancee-resultats-de-recherche
UID:quid-rrisiq-54
END:VEVENT
END:VCALENDAR