BEGIN:VCALENDAR
VERSION:2.0
CALSCALE:GREGORIAN
METHOD:PUBLISH
BEGIN:VEVENT
DTSTART;TZID=America/New_York:20140903T090000
DTEND;TZID=America/New_York:20140903T163000
SUMMARY:Training on "Competence-based Education" (day 2)
DESCRIPTION:The Centre for Innovation in Nursing Education (CIFI) of the Faculty of Nursing at Université de Montréal offers an optional two-day educational activitiy to enable participants to learn the theoretical foundations and practice of this innovative...
LOCATION:2375 chemin de la Côte-Ste-Catherine\, Montréal\, QC\, H3T 1A8
URL:https://rrisiq.com/en/event/training-on-competence-based-education-day-2
UID:quid-rrisiq-20
END:VEVENT
END:VCALENDAR