BEGIN:VCALENDAR
VERSION:2.0
CALSCALE:GREGORIAN
METHOD:PUBLISH
BEGIN:VEVENT
DTSTART;TZID=America/New_York:20240220T120000
DTEND;TZID=America/New_York:20240220T130000
SUMMARY:Une approche innovante de co-design en santé : pistes pour la recherche [in French]...
DESCRIPTION:This webinar will address the contribution of a co-design approach within the context of a health research project\, as well as the elements that promote the inclusion and support of participants in a co-design activity. The webinar is offered free of ...
LOCATION:
URL:https://rrisiq.com/en/event/une-approche-innovante-de-co-design-en-sante-pistes-pour-la-recherche-in-french
UID:quid-rrisiq-119
END:VEVENT
END:VCALENDAR