BEGIN:VCALENDAR
VERSION:2.0
CALSCALE:GREGORIAN
METHOD:PUBLISH
BEGIN:VEVENT
DTSTART;TZID=America/New_York:20240305T120000
DTEND;TZID=America/New_York:20240305T130000
SUMMARY:Optimisez vos chances ! Trucs et astuces pour rédiger avec succès une demande de bourse doctorale [in French]...
DESCRIPTION:This presentation is aimed at both new doctoral candidates and those who have already started their doctoral journey\, who wish to optimize their chances of obtaining funding. The webinar is offered free of charge and is open to everyone. However\, is ...
LOCATION:
URL:https://rrisiq.com/en/event/vos-chances-trucs-et-astuces-pour-rediger-avec-succes-une-demande-de-bourse-doctorale-in-french
UID:quid-rrisiq-121
END:VEVENT
END:VCALENDAR