BEGIN:VCALENDAR
VERSION:2.0
CALSCALE:GREGORIAN
METHOD:PUBLISH
BEGIN:VEVENT
DTSTART;TZID=America/New_York:20150217T090000
DTEND;TZID=America/New_York:20150217T115900
SUMMARY:Workshop : Conférence : Revues systématiques\, Cochrane et méta-analyse - historique et utilités -
DESCRIPTION:Presented by:Dr Jacques LacroixM.D.\, F.R.C.P.C.\, F.A.A.P. Paediatrician researcher - CHU - Hôpital Sainte-JustineRegistration: Before February 2nd\,  2015 - Click on the blue button on the top left side of this page ( only for people : Please...
LOCATION:2375\, ch. de la Côte Ste-Catherine
URL:https://rrisiq.com/en/event/workshop-conference-revues-systematiques-cochrane-et-meta-analyse-historique-et-utilites
UID:quid-rrisiq-6
END:VEVENT
END:VCALENDAR