BEGIN:VCALENDAR
VERSION:2.0
CALSCALE:GREGORIAN
METHOD:PUBLISH
BEGIN:VEVENT
DTSTART;TZID=America/New_York:20200610T120000
DTEND;TZID=America/New_York:20200610T140000
SUMMARY:Workshop - FRQS Research Scholar Applications
DESCRIPTION:Pricipal Speakers: Sylvie Le May\, inf.\, PhD Professeure titulaire\, Faculté des sciences infirmières - Université de Montréal Chercheur sénior\, Centre de Recherche du CHU Sainte-Justine. Nancy Feeley\, inf.\, PhD Associate Professor\, McGill...
LOCATION:2375 Chemin de la Côte Sainte-Catherine...
URL:https://rrisiq.com/en/event/workshop-frqs-research-scholar-applications
UID:quid-rrisiq-93
END:VEVENT
END:VCALENDAR