BEGIN:VCALENDAR
VERSION:2.0
CALSCALE:GREGORIAN
METHOD:PUBLISH
BEGIN:VEVENT
DTSTART;TZID=America/New_York:20200123T090000
DTEND;TZID=America/New_York:20200123T120000
SUMMARY:Workshop: "Revues systématiques et méta-analyses: L’utilisation du logiciel RevMan" 2020
DESCRIPTION:Workshop presented by: Chantal Roy Assistant to the Head of Unit Unité de recherche clinique appliquée CHU Ste-Justine Research Center Abstract RevMan is a free software developed by the Cochrane Collaboration Group. It is designed to carry out an...
LOCATION:2375\, ch. de la Côte Ste-Catherine\, Montréal
URL:https://rrisiq.com/en/event/workshop-revues-systematiques-et-meta-analyses-utilisation-du-logiciel-revman-2020
UID:quid-rrisiq-90
END:VEVENT
END:VCALENDAR