BEGIN:VCALENDAR
VERSION:2.0
CALSCALE:GREGORIAN
METHOD:PUBLISH
BEGIN:VEVENT
DTSTART;TZID=America/New_York:20180208T090000
DTEND;TZID=America/New_York:20180208T120000
SUMMARY:Workshop: "Revues systématiques et méta-analyses: L’utilisation du logiciel RevMan"
DESCRIPTION:Workshop presented by:Chantal RoyAssistant to the Head of Unit Unité de recherche clinique appliquéeCHU Ste-Justine Research CenterAbstractRevMan is a free software developed by the Cochrane Collaboration Group. It is designed to carry out systema...
LOCATION:2375\, ch. de la Côte Ste-Catherine\, Montréal
URL:https://rrisiq.com/en/event/workshop-revues-systematiques-et-meta-analyses-utilisation-du-logiciel-revman
UID:quid-rrisiq-74
END:VEVENT
END:VCALENDAR